BEGIN:VCALENDAR
VERSION:2.0
PRODID:-//PYVOBJECT//NONSGML Version 0.9.9//EN
X-WR-TIMEZONE:Africa/Johannesburg
BEGIN:VTIMEZONE
TZID:Africa/Johannesburg
BEGIN:STANDARD
DTSTART:20000101T000000
RRULE:FREQ=YEARLY;BYMONTH=1
TZNAME:SAST
TZOFFSETFROM:+0200
TZOFFSETTO:+0200
END:STANDARD
END:VTIMEZONE
BEGIN:VEVENT
UID:20260419T161838Z - 5915@eos-content
DTSTART;TZID=Africa/Johannesburg:20260419T140000
DTEND;TZID=Africa/Johannesburg:20260419T160000
ATTENDEE:MAILTO:charmained@onlyrealty.co.za
DESCRIPTION:https://www.onlyrealty.co.za/results/residential/for-sale/sandt
 on/bryanston/house/2781442/5-woodbridge-manor-27e-cottesmore-road/\n\nPlea
 se contact me to get access at the gate 082 901 7644\n\nCharmaine De Blanc
 he (0829017644)
DTSTAMP:20260419T161838Z
LOCATION:5 Woodbridge Manor\, 27E Cottesmore Road\, Bryanston\, Sandton
SUMMARY:Only Realty Show Day - ORL34589
END:VEVENT
END:VCALENDAR
